BEGIN:VCALENDAR
VERSION:2.0
PRODID:-//Willkommen bei der Musikschule des Landkreises Hof - ECPv6.15.20//NONSGML v1.0//EN
CALSCALE:GREGORIAN
METHOD:PUBLISH
X-WR-CALNAME:Willkommen bei der Musikschule des Landkreises Hof
X-ORIGINAL-URL:https://ms-hof.de
X-WR-CALDESC:Veranstaltungen für Willkommen bei der Musikschule des Landkreises Hof
REFRESH-INTERVAL;VALUE=DURATION:PT1H
X-Robots-Tag:noindex
X-PUBLISHED-TTL:PT1H
BEGIN:VTIMEZONE
TZID:Europe/Berlin
BEGIN:DAYLIGHT
TZOFFSETFROM:+0100
TZOFFSETTO:+0200
TZNAME:CEST
DTSTART:20250330T010000
END:DAYLIGHT
BEGIN:STANDARD
TZOFFSETFROM:+0200
TZOFFSETTO:+0100
TZNAME:CET
DTSTART:20251026T010000
END:STANDARD
BEGIN:DAYLIGHT
TZOFFSETFROM:+0100
TZOFFSETTO:+0200
TZNAME:CEST
DTSTART:20260329T010000
END:DAYLIGHT
BEGIN:STANDARD
TZOFFSETFROM:+0200
TZOFFSETTO:+0100
TZNAME:CET
DTSTART:20261025T010000
END:STANDARD
BEGIN:DAYLIGHT
TZOFFSETFROM:+0100
TZOFFSETTO:+0200
TZNAME:CEST
DTSTART:20270328T010000
END:DAYLIGHT
BEGIN:STANDARD
TZOFFSETFROM:+0200
TZOFFSETTO:+0100
TZNAME:CET
DTSTART:20271031T010000
END:STANDARD
END:VTIMEZONE
BEGIN:VEVENT
DTSTART;TZID=Europe/Berlin:20260620T130000
DTEND;TZID=Europe/Berlin:20260620T150000
DTSTAMP:20260422T170303
CREATED:20260401T092959Z
LAST-MODIFIED:20260401T094645Z
UID:6171-1781960400-1781967600@ms-hof.de
SUMMARY:Instrumenten-Rallye in Schwarzenbach an der Saale
DESCRIPTION:Es werden folgende Instrumente angeboten: Klavier\, Keyboard\, Blockflöte\, Gitarre
URL:https://ms-hof.de/veranstaltungen/instrumenten-rallye-in-schwarzenbach-an-der-saale-3/
LOCATION:Geschwister-Scholl-Mittelschule\, Schwarzenbach a.d.Saale
END:VEVENT
BEGIN:VEVENT
DTSTART;TZID=Europe/Berlin:20260620T153000
DTEND;TZID=Europe/Berlin:20260620T163000
DTSTAMP:20260422T170303
CREATED:20260227T114219Z
LAST-MODIFIED:20260227T114219Z
UID:6135-1781969400-1781973000@ms-hof.de
SUMMARY:Sommerkonzert im Seniorenheim Haus "Regnitztal" ind Zedtwitz
DESCRIPTION:Es präsentieren sich Schülerinnen und Schüler der Instrumentalklassen von Olga Moos.
URL:https://ms-hof.de/veranstaltungen/sommerkonzert-im-seniorenheim-haus-regnitztal-ind-zedtwitz/
LOCATION:Seniorenheim Haus Regnitztal\, Kösseinestraße 25\, Feilitzsch\, 95183\, Germany
END:VEVENT
BEGIN:VEVENT
DTSTART;TZID=Europe/Berlin:20260621T110000
DTEND;TZID=Europe/Berlin:20260621T130000
DTSTAMP:20260422T170303
CREATED:20260410T105403Z
LAST-MODIFIED:20260410T105523Z
UID:6188-1782039600-1782046800@ms-hof.de
SUMMARY:Sommerkonzert der Musikschule des Landkreises Hof – Matinée in der VHS Hofer Land
DESCRIPTION:Save the date!\n\n\n\n\nUnser großes Musikschulkonzert findet ab 11 Uhr in der Glashalle der VHS Hofer Land statt. \nWir freuen uns auf Ihr/Euer Kommen. \nEintritt frei\, Spenden willkommen.
URL:https://ms-hof.de/veranstaltungen/sommerkonzert-der-musikschule-in-der-glashalle-der-vhs-hofer-land/
LOCATION:Volkshochschule Hofer Land\, LU 7\, Hof
END:VEVENT
END:VCALENDAR