BEGIN:VCALENDAR
VERSION:2.0
PRODID:-//Willkommen bei der Musikschule des Landkreises Hof - ECPv6.15.20//NONSGML v1.0//EN
CALSCALE:GREGORIAN
METHOD:PUBLISH
X-WR-CALNAME:Willkommen bei der Musikschule des Landkreises Hof
X-ORIGINAL-URL:https://ms-hof.de
X-WR-CALDESC:Veranstaltungen für Willkommen bei der Musikschule des Landkreises Hof
REFRESH-INTERVAL;VALUE=DURATION:PT1H
X-Robots-Tag:noindex
X-PUBLISHED-TTL:PT1H
BEGIN:VTIMEZONE
TZID:Europe/Berlin
BEGIN:DAYLIGHT
TZOFFSETFROM:+0100
TZOFFSETTO:+0200
TZNAME:CEST
DTSTART:20250330T010000
END:DAYLIGHT
BEGIN:STANDARD
TZOFFSETFROM:+0200
TZOFFSETTO:+0100
TZNAME:CET
DTSTART:20251026T010000
END:STANDARD
BEGIN:DAYLIGHT
TZOFFSETFROM:+0100
TZOFFSETTO:+0200
TZNAME:CEST
DTSTART:20260329T010000
END:DAYLIGHT
BEGIN:STANDARD
TZOFFSETFROM:+0200
TZOFFSETTO:+0100
TZNAME:CET
DTSTART:20261025T010000
END:STANDARD
BEGIN:DAYLIGHT
TZOFFSETFROM:+0100
TZOFFSETTO:+0200
TZNAME:CEST
DTSTART:20270328T010000
END:DAYLIGHT
BEGIN:STANDARD
TZOFFSETFROM:+0200
TZOFFSETTO:+0100
TZNAME:CET
DTSTART:20271031T010000
END:STANDARD
END:VTIMEZONE
BEGIN:VEVENT
DTSTART;TZID=Europe/Berlin:20260509T093000
DTEND;TZID=Europe/Berlin:20260509T110000
DTSTAMP:20260422T152026
CREATED:20260414T103708Z
LAST-MODIFIED:20260414T103708Z
UID:6199-1778319000-1778324400@ms-hof.de
SUMMARY:"Musik nach 1"- Konzert in Feilitzsch
DESCRIPTION:Es musizieren Schülerinnen und Schüler der Klassen Jens Gottlöber\, Olga Moos\, Radoslava Boneva\, Bernd Rosenberger sowie der Schulchor der Grund-und Mittelschule unter der Leitung von Christine Kemnitzer.
URL:https://ms-hof.de/veranstaltungen/musik-nach-1-konzert-in-feilitzsch/
LOCATION:Grund- und Mittelschule Bayerisches Vogtland\, Feilitzsch
END:VEVENT
BEGIN:VEVENT
DTSTART;TZID=Europe/Berlin:20260509T160000
DTEND;TZID=Europe/Berlin:20260509T170000
DTSTAMP:20260422T152026
CREATED:20260414T074523Z
LAST-MODIFIED:20260414T092927Z
UID:6192-1778342400-1778346000@ms-hof.de
SUMMARY:"Saitenspiele" - Gitarrentanz im Mai - Konzert der Gitarrenklasse von Jens Gottlöber in Oberkotzau
DESCRIPTION:Gespielt wird: Literatur aller Genres\, Gitarrenchor\, Preisträger des Wettbewerbes Jugend musiziert und Vorbereitung auf den Carl Schröder Wettbewerb
URL:https://ms-hof.de/veranstaltungen/saitenspiele-gitarrentanz-im-mai-konzert-der-gitarrenklasse-von-jens-gottloeber-in-oberkotzau/
LOCATION:Schulzentrum Oberkotzau\, Grund- u. Mittelschule
END:VEVENT
BEGIN:VEVENT
DTSTART;TZID=Europe/Berlin:20260510T110000
DTEND;TZID=Europe/Berlin:20260510T120000
DTSTAMP:20260422T152026
CREATED:20260409T112159Z
LAST-MODIFIED:20260409T114005Z
UID:6184-1778410800-1778414400@ms-hof.de
SUMMARY:Frühlingskonzert der Instrumentalklassen von Christa Klie und Radoslava Boneva in Rehau
DESCRIPTION:
URL:https://ms-hof.de/veranstaltungen/fruehlingskonzert-der-instrumentalklassen-von-christa-klie-und-radoslava-boneva-in-rehau/
LOCATION:Altes Rathaus Rehau
END:VEVENT
BEGIN:VEVENT
DTSTART;TZID=Europe/Berlin:20260516T110000
DTEND;TZID=Europe/Berlin:20260516T123000
DTSTAMP:20260422T152026
CREATED:20260401T092725Z
LAST-MODIFIED:20260401T092725Z
UID:6169-1778929200-1778934600@ms-hof.de
SUMMARY:Matinée der Violin- und Violaklassen von Radsolava Boneva in der VHS Hofer Land
DESCRIPTION:
URL:https://ms-hof.de/veranstaltungen/matinee-der-violin-und-violaklassen-von-radsolava-boneva-in-der-vhs-hofer-land-2/
LOCATION:Volkshochschule Hofer Land\, LU 7\, Hof
END:VEVENT
END:VCALENDAR