BEGIN:VCALENDAR
VERSION:2.0
PRODID:-//Willkommen bei der Musikschule des Landkreises Hof - ECPv6.15.20//NONSGML v1.0//EN
CALSCALE:GREGORIAN
METHOD:PUBLISH
X-WR-CALNAME:Willkommen bei der Musikschule des Landkreises Hof
X-ORIGINAL-URL:https://ms-hof.de
X-WR-CALDESC:Veranstaltungen für Willkommen bei der Musikschule des Landkreises Hof
REFRESH-INTERVAL;VALUE=DURATION:PT1H
X-Robots-Tag:noindex
X-PUBLISHED-TTL:PT1H
BEGIN:VTIMEZONE
TZID:Europe/Berlin
BEGIN:DAYLIGHT
TZOFFSETFROM:+0100
TZOFFSETTO:+0200
TZNAME:CEST
DTSTART:20240331T010000
END:DAYLIGHT
BEGIN:STANDARD
TZOFFSETFROM:+0200
TZOFFSETTO:+0100
TZNAME:CET
DTSTART:20241027T010000
END:STANDARD
BEGIN:DAYLIGHT
TZOFFSETFROM:+0100
TZOFFSETTO:+0200
TZNAME:CEST
DTSTART:20250330T010000
END:DAYLIGHT
BEGIN:STANDARD
TZOFFSETFROM:+0200
TZOFFSETTO:+0100
TZNAME:CET
DTSTART:20251026T010000
END:STANDARD
BEGIN:DAYLIGHT
TZOFFSETFROM:+0100
TZOFFSETTO:+0200
TZNAME:CEST
DTSTART:20260329T010000
END:DAYLIGHT
BEGIN:STANDARD
TZOFFSETFROM:+0200
TZOFFSETTO:+0100
TZNAME:CET
DTSTART:20261025T010000
END:STANDARD
END:VTIMEZONE
BEGIN:VEVENT
DTSTART;TZID=Europe/Berlin:20251206T160000
DTEND;TZID=Europe/Berlin:20251206T170000
DTSTAMP:20260422T202216
CREATED:20251124T130131Z
LAST-MODIFIED:20251124T130137Z
UID:5986-1765036800-1765040400@ms-hof.de
SUMMARY:Adventskonzert der Instrumentalklassen von Tamara Ilisinska-Gromek und Jarosaw Gromek in Rehau
DESCRIPTION:Es spielen Schülerinnen und Schüler der Klavierklasse von Tamara Ilisinska-Gromek sowie der Klavier- und Blockflötenklassen von Jaroslaw Gromek.
URL:https://ms-hof.de/veranstaltungen/adventskonzert-der-instrumentalklassen-von-tamara-ilisinska-gromek-und-jarosaw-gromek-in-rehau/
LOCATION:Rummelsberger Diakonie\, Rehau\, Rummelsberger Diakonie\, Rehau
END:VEVENT
BEGIN:VEVENT
DTSTART;TZID=Europe/Berlin:20251207T151500
DTEND;TZID=Europe/Berlin:20251207T160000
DTSTAMP:20260422T202216
CREATED:20251119T090525Z
LAST-MODIFIED:20251124T113037Z
UID:5973-1765120500-1765123200@ms-hof.de
SUMMARY:Adventskonzert im Mehrgenerationenhaus Rehau
DESCRIPTION:Besinnliche Klänge zum Advent – kleines Konzert der Schülerinnen und Schüler der Musikschule des Landkreises Hof im Mehrgenerationenhaus in Rehau.
URL:https://ms-hof.de/veranstaltungen/adventskonzert/
LOCATION:Mehrgenerationenhaus Rehau\, Maxplatz 12\, Rehau\, 95111
END:VEVENT
BEGIN:VEVENT
DTSTART;TZID=Europe/Berlin:20251212T151500
DTEND;TZID=Europe/Berlin:20251212T160000
DTSTAMP:20260422T202216
CREATED:20251201T113605Z
LAST-MODIFIED:20251201T113605Z
UID:5990-1765552500-1765555200@ms-hof.de
SUMMARY:Konzert der Violinklassen von Radoslava Boneva in Naila
DESCRIPTION:Musik im Advent mit der Violinklassen von Radolsava Boneva um 15.15 im Seniorenstift Martinsberg in Naila.
URL:https://ms-hof.de/veranstaltungen/konzert-der-violinklassen-von-radoslava-boneva-in-naila/
LOCATION:Seniorenstift Martinsberg\, Lichtenberger Str.9\, Naila\, Bayern\, 95119\, Germany
END:VEVENT
BEGIN:VEVENT
DTSTART;TZID=Europe/Berlin:20251213T100000
DTEND;TZID=Europe/Berlin:20251213T110000
DTSTAMP:20260422T202216
CREATED:20251208T101302Z
LAST-MODIFIED:20251208T101857Z
UID:6009-1765620000-1765623600@ms-hof.de
SUMMARY:Adventskonzert der Klavierklasse von Merle Roßner in Münchberg
DESCRIPTION:Weihnachtskonzert der Schülerinnen und Schüler der Klavierklasse von Merle Roßner im Caritas-Seniorenzentrum St.Josef in Münchberg.
URL:https://ms-hof.de/veranstaltungen/konzert-der-klavierklasse-von-merle-rossner-in-muenchberg/
LOCATION:Caritas Seniorenheim St. Josef\, Münchberg
END:VEVENT
BEGIN:VEVENT
DTSTART;TZID=Europe/Berlin:20251213T150000
DTEND;TZID=Europe/Berlin:20251213T160000
DTSTAMP:20260422T202216
CREATED:20251208T102032Z
LAST-MODIFIED:20251208T102032Z
UID:6012-1765638000-1765641600@ms-hof.de
SUMMARY:Adventskonzert der Klavierklasse von Olga Moos in Feilitzsch
DESCRIPTION:Weihnachtskonzert der Schülerinnen und Schüler der Klavierklasse von Olga Moos im Seniorenheim Haus Regnitztal in Feilitzsch.
URL:https://ms-hof.de/veranstaltungen/adventskonzert-der-klavierklasse-von-olga-moos-in-feilitzsch/
LOCATION:Seniorenheim Haus Regnitztal\, Kösseinestraße 25\, Feilitzsch\, 95183\, Germany
END:VEVENT
BEGIN:VEVENT
DTSTART;TZID=Europe/Berlin:20251214T150000
DTEND;TZID=Europe/Berlin:20251214T160000
DTSTAMP:20260422T202216
CREATED:20251124T113907Z
LAST-MODIFIED:20251124T113907Z
UID:5983-1765724400-1765728000@ms-hof.de
SUMMARY:Adventskonzert der Klavierklasse von Larissa und Igor Rattassep in der Christuskirche Hof
DESCRIPTION:Weihnachtskonzert der Schülerinnen und Schüler der Klavierklassen von Larissa und Igor Rattassep im Gemeindesaal der Christuskirche Hof.
URL:https://ms-hof.de/veranstaltungen/adventskonzert-der-klavierklasse-von-larissa-und-igor-rattassep-in-der-christuskirche-hof/
LOCATION:Christuskirche\, Hof
END:VEVENT
END:VCALENDAR