BEGIN:VCALENDAR
VERSION:2.0
PRODID:-//Willkommen bei der Musikschule des Landkreises Hof - ECPv6.15.20//NONSGML v1.0//EN
CALSCALE:GREGORIAN
METHOD:PUBLISH
X-WR-CALNAME:Willkommen bei der Musikschule des Landkreises Hof
X-ORIGINAL-URL:https://ms-hof.de
X-WR-CALDESC:Veranstaltungen für Willkommen bei der Musikschule des Landkreises Hof
REFRESH-INTERVAL;VALUE=DURATION:PT1H
X-Robots-Tag:noindex
X-PUBLISHED-TTL:PT1H
BEGIN:VTIMEZONE
TZID:Europe/Berlin
BEGIN:DAYLIGHT
TZOFFSETFROM:+0100
TZOFFSETTO:+0200
TZNAME:CEST
DTSTART:20240331T010000
END:DAYLIGHT
BEGIN:STANDARD
TZOFFSETFROM:+0200
TZOFFSETTO:+0100
TZNAME:CET
DTSTART:20241027T010000
END:STANDARD
BEGIN:DAYLIGHT
TZOFFSETFROM:+0100
TZOFFSETTO:+0200
TZNAME:CEST
DTSTART:20250330T010000
END:DAYLIGHT
BEGIN:STANDARD
TZOFFSETFROM:+0200
TZOFFSETTO:+0100
TZNAME:CET
DTSTART:20251026T010000
END:STANDARD
BEGIN:DAYLIGHT
TZOFFSETFROM:+0100
TZOFFSETTO:+0200
TZNAME:CEST
DTSTART:20260329T010000
END:DAYLIGHT
BEGIN:STANDARD
TZOFFSETFROM:+0200
TZOFFSETTO:+0100
TZNAME:CET
DTSTART:20261025T010000
END:STANDARD
BEGIN:DAYLIGHT
TZOFFSETFROM:+0100
TZOFFSETTO:+0200
TZNAME:CEST
DTSTART:20270328T010000
END:DAYLIGHT
BEGIN:STANDARD
TZOFFSETFROM:+0200
TZOFFSETTO:+0100
TZNAME:CET
DTSTART:20271031T010000
END:STANDARD
END:VTIMEZONE
BEGIN:VEVENT
DTSTART;TZID=Europe/Berlin:20260325T150000
DTEND;TZID=Europe/Berlin:20260325T160000
DTSTAMP:20260422T170634
CREATED:20260227T113402Z
LAST-MODIFIED:20260227T114306Z
UID:6131-1774450800-1774454400@ms-hof.de
SUMMARY:Frühlingskonzert im Alten- und Pflegeheim Haus "Saalepark" in Schwarzenbach a.d. Saale
DESCRIPTION:Es präsentieren sich Schülerinnen und Schüler der Instrumentalklassen von Olga Moos.
URL:https://ms-hof.de/veranstaltungen/fruehlingskonzert-im-alten-und-pflegeheim-haus-saalepark-in-schwarzenbach-a-d-saale/
LOCATION:Alten-Pflegeheim „Saalepark“\,  Schwarzenbach a.d. Saale
END:VEVENT
BEGIN:VEVENT
DTSTART;TZID=Europe/Berlin:20260313T150000
DTEND;TZID=Europe/Berlin:20260313T160000
DTSTAMP:20260422T170634
CREATED:20260227T113123Z
LAST-MODIFIED:20260227T113147Z
UID:6127-1773414000-1773417600@ms-hof.de
SUMMARY:Klangvolle Begegnungen - Frühlingskonzert im Caritas-Seniorenzentrum St. Josef Münchberg
DESCRIPTION:Klangvolle Begegnungen – Frühlingskonzert im Caritas-Seniorenzentrum St.Josef; \nes präsentieren sich jeweils Schülerinnen und Schüler der Instrumentalklassen von Olga Moos und Merle Roßner
URL:https://ms-hof.de/veranstaltungen/klangvolle-begegnungen-fruehlingskonzert-im-caritas-seniorenzentrum-st-josef-muenchberg/
LOCATION:Caritas Seniorenheim St. Josef\, Münchberg
END:VEVENT
BEGIN:VEVENT
DTSTART;TZID=Europe/Berlin:20251214T150000
DTEND;TZID=Europe/Berlin:20251214T160000
DTSTAMP:20260422T170634
CREATED:20251124T113907Z
LAST-MODIFIED:20251124T113907Z
UID:5983-1765724400-1765728000@ms-hof.de
SUMMARY:Adventskonzert der Klavierklasse von Larissa und Igor Rattassep in der Christuskirche Hof
DESCRIPTION:Weihnachtskonzert der Schülerinnen und Schüler der Klavierklassen von Larissa und Igor Rattassep im Gemeindesaal der Christuskirche Hof.
URL:https://ms-hof.de/veranstaltungen/adventskonzert-der-klavierklasse-von-larissa-und-igor-rattassep-in-der-christuskirche-hof/
LOCATION:Christuskirche\, Hof
END:VEVENT
BEGIN:VEVENT
DTSTART;TZID=Europe/Berlin:20251213T150000
DTEND;TZID=Europe/Berlin:20251213T160000
DTSTAMP:20260422T170634
CREATED:20251208T102032Z
LAST-MODIFIED:20251208T102032Z
UID:6012-1765638000-1765641600@ms-hof.de
SUMMARY:Adventskonzert der Klavierklasse von Olga Moos in Feilitzsch
DESCRIPTION:Weihnachtskonzert der Schülerinnen und Schüler der Klavierklasse von Olga Moos im Seniorenheim Haus Regnitztal in Feilitzsch.
URL:https://ms-hof.de/veranstaltungen/adventskonzert-der-klavierklasse-von-olga-moos-in-feilitzsch/
LOCATION:Seniorenheim Haus Regnitztal\, Kösseinestraße 25\, Feilitzsch\, 95183\, Germany
END:VEVENT
BEGIN:VEVENT
DTSTART;TZID=Europe/Berlin:20251213T100000
DTEND;TZID=Europe/Berlin:20251213T110000
DTSTAMP:20260422T170634
CREATED:20251208T101302Z
LAST-MODIFIED:20251208T101857Z
UID:6009-1765620000-1765623600@ms-hof.de
SUMMARY:Adventskonzert der Klavierklasse von Merle Roßner in Münchberg
DESCRIPTION:Weihnachtskonzert der Schülerinnen und Schüler der Klavierklasse von Merle Roßner im Caritas-Seniorenzentrum St.Josef in Münchberg.
URL:https://ms-hof.de/veranstaltungen/konzert-der-klavierklasse-von-merle-rossner-in-muenchberg/
LOCATION:Caritas Seniorenheim St. Josef\, Münchberg
END:VEVENT
BEGIN:VEVENT
DTSTART;TZID=Europe/Berlin:20251212T151500
DTEND;TZID=Europe/Berlin:20251212T160000
DTSTAMP:20260422T170634
CREATED:20251201T113605Z
LAST-MODIFIED:20251201T113605Z
UID:5990-1765552500-1765555200@ms-hof.de
SUMMARY:Konzert der Violinklassen von Radoslava Boneva in Naila
DESCRIPTION:Musik im Advent mit der Violinklassen von Radolsava Boneva um 15.15 im Seniorenstift Martinsberg in Naila.
URL:https://ms-hof.de/veranstaltungen/konzert-der-violinklassen-von-radoslava-boneva-in-naila/
LOCATION:Seniorenstift Martinsberg\, Lichtenberger Str.9\, Naila\, Bayern\, 95119\, Germany
END:VEVENT
BEGIN:VEVENT
DTSTART;TZID=Europe/Berlin:20251207T151500
DTEND;TZID=Europe/Berlin:20251207T160000
DTSTAMP:20260422T170634
CREATED:20251119T090525Z
LAST-MODIFIED:20251124T113037Z
UID:5973-1765120500-1765123200@ms-hof.de
SUMMARY:Adventskonzert im Mehrgenerationenhaus Rehau
DESCRIPTION:Besinnliche Klänge zum Advent – kleines Konzert der Schülerinnen und Schüler der Musikschule des Landkreises Hof im Mehrgenerationenhaus in Rehau.
URL:https://ms-hof.de/veranstaltungen/adventskonzert/
LOCATION:Mehrgenerationenhaus Rehau\, Maxplatz 12\, Rehau\, 95111
END:VEVENT
BEGIN:VEVENT
DTSTART;TZID=Europe/Berlin:20251206T160000
DTEND;TZID=Europe/Berlin:20251206T170000
DTSTAMP:20260422T170634
CREATED:20251124T130131Z
LAST-MODIFIED:20251124T130137Z
UID:5986-1765036800-1765040400@ms-hof.de
SUMMARY:Adventskonzert der Instrumentalklassen von Tamara Ilisinska-Gromek und Jarosaw Gromek in Rehau
DESCRIPTION:Es spielen Schülerinnen und Schüler der Klavierklasse von Tamara Ilisinska-Gromek sowie der Klavier- und Blockflötenklassen von Jaroslaw Gromek.
URL:https://ms-hof.de/veranstaltungen/adventskonzert-der-instrumentalklassen-von-tamara-ilisinska-gromek-und-jarosaw-gromek-in-rehau/
LOCATION:Rummelsberger Diakonie\, Rehau\, Rummelsberger Diakonie\, Rehau
END:VEVENT
BEGIN:VEVENT
DTSTART;TZID=Europe/Berlin:20251130T150000
DTEND;TZID=Europe/Berlin:20251130T160000
DTSTAMP:20260422T170634
CREATED:20251124T112037Z
LAST-MODIFIED:20251124T112037Z
UID:5981-1764514800-1764518400@ms-hof.de
SUMMARY:"Saitenspiele Christmas" - Weihnachtskonzert der Gitarrenklasse von Jens Gottlöber in Oberkotzau
DESCRIPTION:Weihnachtskonzert der Schülerinnen und Schüler der Gitarrenklassen von Jens Gottlöber im Schulzentrum Oberkotzau
URL:https://ms-hof.de/veranstaltungen/saitenspiele-christmas-weihnachtskonzert-der-gitarrenklasse-von-jens-gottloeber-in-oberkotzau/
LOCATION:Schulzentrum Oberkotzau\, Grund- u. Mittelschule
END:VEVENT
BEGIN:VEVENT
DTSTART;TZID=Europe/Berlin:20251130T110000
DTEND;TZID=Europe/Berlin:20251130T120000
DTSTAMP:20260422T170634
CREATED:20251103T120541Z
LAST-MODIFIED:20251124T111332Z
UID:5964-1764500400-1764504000@ms-hof.de
SUMMARY:Konzert im Advent der Saxophon-\, Klarinetten- u. Klavierklassen von Birgit Vogel in Schwarzenbach/Wald
DESCRIPTION:Besinnliche Klänge zum Advent – Konzert der Saxophon-\, Klarinetten- u.Klavierklassen von Birgit Vogel in Schwarzenbach/Wald
URL:https://ms-hof.de/veranstaltungen/konzert-im-advent/
LOCATION:Philip-Wolfrum-Haus\, Schwarzenbach am Wald
END:VEVENT
BEGIN:VEVENT
DTSTART;TZID=Europe/Berlin:20250720T150000
DTEND;TZID=Europe/Berlin:20250720T160000
DTSTAMP:20260422T170634
CREATED:20250701T104618Z
LAST-MODIFIED:20250701T104633Z
UID:5811-1753023600-1753027200@ms-hof.de
SUMMARY:Konzert der Klavierklassen von Larissa Rattassep in Hof
DESCRIPTION:
URL:https://ms-hof.de/veranstaltungen/konzert-der-klavierklassen-von-larissa-rattassep-2/
LOCATION:Christuskirche\, Hof
END:VEVENT
BEGIN:VEVENT
DTSTART;TZID=Europe/Berlin:20250719T170000
DTEND;TZID=Europe/Berlin:20250719T190000
DTSTAMP:20260422T170634
CREATED:20250624T105053Z
LAST-MODIFIED:20250625T085608Z
UID:5799-1752944400-1752951600@ms-hof.de
SUMMARY:Konzert der Gitarrenklassen von Miloslav Matoušek in Mittelweißenbach
DESCRIPTION:Das Konzert findet bei Miloslav Matoušek in Mittelweißenbach 2 statt!
URL:https://ms-hof.de/veranstaltungen/konzert-der-gitarrenklassen-von-miloslav-matousek-in-mittelweissenbach/
END:VEVENT
BEGIN:VEVENT
DTSTART;TZID=Europe/Berlin:20250719T110000
DTEND;TZID=Europe/Berlin:20250719T120000
DTSTAMP:20260422T170634
CREATED:20250526T095129Z
LAST-MODIFIED:20250526T095154Z
UID:5772-1752922800-1752926400@ms-hof.de
SUMMARY:Konzert der Klassen von Olga Moos in Helmbrechts
DESCRIPTION:
URL:https://ms-hof.de/veranstaltungen/konzert-der-klassen-von-olga-moos-ins-helmbrechts/
LOCATION:Otto-Knopf-Grundschule\, Helmbrechts
END:VEVENT
BEGIN:VEVENT
DTSTART;TZID=Europe/Berlin:20250719T100000
DTEND;TZID=Europe/Berlin:20250719T113000
DTSTAMP:20260422T170634
CREATED:20250402T103040Z
LAST-MODIFIED:20250523T100156Z
UID:5638-1752919200-1752924600@ms-hof.de
SUMMARY:Instrumenten-Rallye in Naila
DESCRIPTION:Es werden folgende Instrumente vorgestellt und stehen zum Ausprobieren bereit: Klavier\, Keyboard\, Gitarre\, Querflöte\, Blockflöte\, Saxofon und Klarinette.
URL:https://ms-hof.de/veranstaltungen/instrumenten-rallye-in-naila-2/
LOCATION:Hochfranken-Gymnasium\, Naila
END:VEVENT
BEGIN:VEVENT
DTSTART;TZID=Europe/Berlin:20250712T160000
DTEND;TZID=Europe/Berlin:20250712T170000
DTSTAMP:20260422T170634
CREATED:20250624T115058Z
LAST-MODIFIED:20250625T085335Z
UID:5801-1752336000-1752339600@ms-hof.de
SUMMARY:Konzert der Gitarrenklasse von Dmytro Basarab in Hof
DESCRIPTION:🎶 Schülerkonzert: Klangvolle Saiten 🎶 \nDie Musikschule des Landkreises Hof lädt herzlich ein zum Konzert der Gitarrenklasse von Herrn Dmytro Basarab. \nFreuen Sie sich auf ein vielseitiges Programm rund um die klassische Gitarre – gestaltet von jungen Talenten. \nEintritt frei – Spenden willkommen
URL:https://ms-hof.de/veranstaltungen/konzert-der-gitarrenklasse-von-dmytro-basarab-in-hof/
LOCATION:Volkshochschule Hofer Land\, LU 7\, Hof
END:VEVENT
BEGIN:VEVENT
DTSTART;TZID=Europe/Berlin:20250712T160000
DTEND;TZID=Europe/Berlin:20250712T170000
DTSTAMP:20260422T170634
CREATED:20250521T094510Z
LAST-MODIFIED:20250521T095519Z
UID:5715-1752336000-1752339600@ms-hof.de
SUMMARY:Konzert der Klavier-\, Keyboard- und Blockflötenklassen von Tamara Ilisinska-Gromek und Jaroslaw Gromek in Rehau
DESCRIPTION:
URL:https://ms-hof.de/veranstaltungen/konzert-der-klavier-keyboard-und-blockfloetenklassen-von-tamara-ilisinska-gromek-und-jaroslaw-gromek-in-rehau/
LOCATION:Rummelsberger Diakonie\, Rehau\, Rummelsberger Diakonie\, Rehau
END:VEVENT
BEGIN:VEVENT
DTSTART;TZID=Europe/Berlin:20250712T130000
DTEND;TZID=Europe/Berlin:20250712T150000
DTSTAMP:20260422T170634
CREATED:20250128T104302Z
LAST-MODIFIED:20250705T193230Z
UID:5565-1752325200-1752332400@ms-hof.de
SUMMARY:Instrumenten-Rallye in Oberkotzau
DESCRIPTION:Es werden folgende Instrumente vorgestellt: Klavier\, Keyboard\, Blockflöte\, Querflöte\, Saxophon\, Klarinette und Gitarre.
URL:https://ms-hof.de/veranstaltungen/instrumenten-rallye-in-oberkotzau-2/
LOCATION:Schulzentrum Oberkotzau\, Grund- u. Mittelschule
END:VEVENT
BEGIN:VEVENT
DTSTART;TZID=Europe/Berlin:20250712T100000
DTEND;TZID=Europe/Berlin:20250712T120000
DTSTAMP:20260422T170634
CREATED:20250325T111815Z
LAST-MODIFIED:20250705T193129Z
UID:5605-1752314400-1752321600@ms-hof.de
SUMMARY:Instrumenten-Rallye in Rehau
DESCRIPTION:Es werden folgende Instrumente vorgestellt: Blockflöte\, Keyboard\, Klavier\, Gitarre.
URL:https://ms-hof.de/veranstaltungen/instrumenten-rallye-in-rehau-3/
LOCATION:Markgraf-Friedrich-Realschule\, Rehau
END:VEVENT
BEGIN:VEVENT
DTSTART;TZID=Europe/Berlin:20250705T130000
DTEND;TZID=Europe/Berlin:20250705T150000
DTSTAMP:20260422T170634
CREATED:20250128T104026Z
LAST-MODIFIED:20250128T104026Z
UID:5563-1751720400-1751727600@ms-hof.de
SUMMARY:Instrumenten-Rallye in Regnitzlosau
DESCRIPTION:Es werden folgende Instrumente vorgestellt: Gesang\, Klavier\, Keyboard und Gitarre.
URL:https://ms-hof.de/veranstaltungen/instrumenten-rallye-in-regnitzlosau-3/
LOCATION:Grundschule\, Regnitzlosau
END:VEVENT
BEGIN:VEVENT
DTSTART;TZID=Europe/Berlin:20250705T100000
DTEND;TZID=Europe/Berlin:20250705T120000
DTSTAMP:20260422T170634
CREATED:20250128T103849Z
LAST-MODIFIED:20250128T103849Z
UID:5561-1751709600-1751716800@ms-hof.de
SUMMARY:Instrumenten-Rallye in Helmbrechts
DESCRIPTION:Es werden folgende Instrumente vorgestellt: Gesang\, Klavier\, Keyboard\, Akkordeon\, Gitarre\, Querflöte und Blockflöte.
URL:https://ms-hof.de/veranstaltungen/instrumenten-rallye-in-helmbrechts-2/
LOCATION:Otto-Knopf-Grundschule\, Helmbrechts
END:VEVENT
BEGIN:VEVENT
DTSTART;TZID=Europe/Berlin:20250629T150000
DTEND;TZID=Europe/Berlin:20250629T160000
DTSTAMP:20260422T170634
CREATED:20250624T104147Z
LAST-MODIFIED:20250625T085647Z
UID:5796-1751209200-1751212800@ms-hof.de
SUMMARY:Konzert der Gitarrenklassen von Miloslav Matoušek in Rehau (in Kooperation mit der Musikschule Selb)
DESCRIPTION:
URL:https://ms-hof.de/veranstaltungen/konzert-der-gitarrenklassen-von-miloslav-matousek-in-kooperation-mit-der-musikschule-selb-in-rehau/
LOCATION:Martin-Luther-Haus Rehau der Diakonie Hochfranken\, Rehau\, Martin-Luther-Haus
END:VEVENT
BEGIN:VEVENT
DTSTART;TZID=Europe/Berlin:20250629T110000
DTEND;TZID=Europe/Berlin:20250629T130000
DTSTAMP:20260422T170634
CREATED:20250128T102859Z
LAST-MODIFIED:20250128T104546Z
UID:5554-1751194800-1751202000@ms-hof.de
SUMMARY:Sommerkonzert der Musikschule des Landkreises Hof – Matinée in der VHS Hofer Land
DESCRIPTION:Save the date!\n\n\n\n\nUnser großes Musikschulkonzert findet ab 11 Uhr in der Glashalle der VHS Hofer Land statt. \nWir freuen uns auf Ihr/Euer Kommen. \nEintritt frei\, Spenden willkommen. \n 
URL:https://ms-hof.de/veranstaltungen/sommerkonzert-der-musikschule-des-landkreises-hof-matinee-in-der-vhs-hofer-land/
LOCATION:Volkshochschule Hofer Land\, LU 7\, Hof
END:VEVENT
BEGIN:VEVENT
DTSTART;TZID=Europe/Berlin:20250628T130000
DTEND;TZID=Europe/Berlin:20250628T150000
DTSTAMP:20260422T170634
CREATED:20250128T103400Z
LAST-MODIFIED:20250627T080443Z
UID:5559-1751115600-1751122800@ms-hof.de
SUMMARY:Instrumenten-Rallye in Feilitzsch
DESCRIPTION:Es werden folgende Instrumente vorgestellt: Gesang\, Klavier\, Keyboard\, Gitarre\, Violine\, Akkordeon. \nACHTUNG: Schlagzeug enfällt leider!
URL:https://ms-hof.de/veranstaltungen/instrumenten-rallye-in-feilitzsch/
LOCATION:Grund- und Mittelschule Bayerisches Vogtland\, Feilitzsch
END:VEVENT
BEGIN:VEVENT
DTSTART;TZID=Europe/Berlin:20250628T100000
DTEND;TZID=Europe/Berlin:20250628T120000
DTSTAMP:20260422T170634
CREATED:20250128T103131Z
LAST-MODIFIED:20250505T101801Z
UID:5556-1751104800-1751112000@ms-hof.de
SUMMARY:Instrumenten-Rallye in Schwarzenbach an der Saale
DESCRIPTION:Es werden folgende Instrumente vorgestellt: Gesang\, Klavier\, Keyboard und Blockflöte.
URL:https://ms-hof.de/veranstaltungen/instrumenten-rallye-in-schwarzenbach-an-der-saale-2/
LOCATION:Geschwister-Scholl-Mittelschule\, Schwarzenbach a.d.Saale
END:VEVENT
BEGIN:VEVENT
DTSTART;TZID=Europe/Berlin:20250531T170000
DTEND;TZID=Europe/Berlin:20250531T183000
DTSTAMP:20260422T170634
CREATED:20250325T112421Z
LAST-MODIFIED:20250325T112421Z
UID:5607-1748710800-1748716200@ms-hof.de
SUMMARY:Konzert der Klavier-\, Keyboard- und Blockflötenklassen von Tamara Ilisinska-Gromek und Jaroslaw Gromek in Oberkotzau
DESCRIPTION:
URL:https://ms-hof.de/veranstaltungen/konzert-der-klavier-keyboard-und-blockfloetenklassen-von-tamara-ilisinska-gromek-und-jaroslaw-gromek-in-oberkotzau/
LOCATION:Schulzentrum Oberkotzau\, Grund- u. Mittelschule
END:VEVENT
BEGIN:VEVENT
DTSTART;TZID=Europe/Berlin:20250531T110000
DTEND;TZID=Europe/Berlin:20250531T130000
DTSTAMP:20260422T170634
CREATED:20250225T104019Z
LAST-MODIFIED:20250528T091146Z
UID:5589-1748689200-1748696400@ms-hof.de
SUMMARY:Matinée der Violin- und Violaklassen von Radsolava Boneva in der VHS Hofer Land
DESCRIPTION:
URL:https://ms-hof.de/veranstaltungen/matinee-der-violin-und-violaklassen-von-radsolava-boneva-in-der-vhs-hofer-land/
LOCATION:Volkshochschule Hofer Land\, LU 7\, Hof
END:VEVENT
BEGIN:VEVENT
DTSTART;TZID=Europe/Berlin:20250530T183000
DTEND;TZID=Europe/Berlin:20250530T200000
DTSTAMP:20260422T170634
CREATED:20250325T112706Z
LAST-MODIFIED:20250325T112706Z
UID:5610-1748629800-1748635200@ms-hof.de
SUMMARY:Konzert der Klavier-\, Keyboard- und Blockflötenklassen von Tamara Ilisinska-Gromek und Jaroslaw Gromek in Rehau (2.Konzert)
DESCRIPTION:
URL:https://ms-hof.de/veranstaltungen/konzert-der-klavier-keyboard-und-blockfloetenklassen-von-tamara-ilisinska-gromek-und-jaroslaw-gromek-in-rehau-2-konzert-2/
LOCATION:Altes Rathaus Rehau
END:VEVENT
BEGIN:VEVENT
DTSTART;TZID=Europe/Berlin:20250530T170000
DTEND;TZID=Europe/Berlin:20250530T183000
DTSTAMP:20260422T170634
CREATED:20250325T112749Z
LAST-MODIFIED:20250325T113027Z
UID:5612-1748624400-1748629800@ms-hof.de
SUMMARY:Konzert der Klavier-\, Keyboard- und Blockflötenklassen von Tamara Ilisinska-Gromek und Jaroslaw Gromek in Rehau (1.Konzert)
DESCRIPTION:
URL:https://ms-hof.de/veranstaltungen/konzert-der-klavier-keyboard-und-blockfloetenklassen-von-tamara-ilisinska-gromek-und-jaroslaw-gromek-in-rehau-1-konzert/
LOCATION:Altes Rathaus Rehau
END:VEVENT
BEGIN:VEVENT
DTSTART;TZID=Europe/Berlin:20250526T150000
DTEND;TZID=Europe/Berlin:20250526T154500
DTSTAMP:20260422T170634
CREATED:20250513T084302Z
LAST-MODIFIED:20250513T084822Z
UID:5706-1748271600-1748274300@ms-hof.de
SUMMARY:Schnupperstunde Musikalische Früherziehung in Rehau
DESCRIPTION:Bei der musikalischen Früherziehung macht sich Ihr Kind mit den elementaren Bereichen der Musik vertraut:\n• Musik hören\n• Singen und Sprechen\n• Instrumentenkunde/einfacher Instrumentenbau (z. B. Rasseln)\n• Tanz und Bewegung\n• elementares Instrumentalspiel (Orff-Instrumentarium)\n• Notenlehre\n• Improvisation\nDie musikalische Früherziehung umfasst das Lebensalter von ca. 4 bis 6 Jahren. \nIm Perlenbachraum\, Maxplatz 12\, 95111 Rehau
URL:https://ms-hof.de/veranstaltungen/schnupperstunde-musikalische-frueherziehung/
LOCATION:Mehrgenerationenhaus Rehau\, Maxplatz 12\, Rehau\, 95111
END:VEVENT
BEGIN:VEVENT
DTSTART;TZID=Europe/Berlin:20250524T110000
DTEND;TZID=Europe/Berlin:20250524T130000
DTSTAMP:20260422T170634
CREATED:20250408T084743Z
LAST-MODIFIED:20250408T084743Z
UID:5640-1748084400-1748091600@ms-hof.de
SUMMARY:Musik am Vormittag in Feilitzsch - Konzert der Musikgruppen der Grund- u.Mittelschule Bayerisches Vogtland und der Musikschule des Landkreises Hof
DESCRIPTION:
URL:https://ms-hof.de/veranstaltungen/musik-am-vormittag-in-feilitzsch-konzert-der-musikgruppen-der-grund-u-mittelschule-bayerisches-vogtland-und-der-musikschule-des-landkreises-hof/
LOCATION:Grund- und Mittelschule Bayerisches Vogtland\, Feilitzsch
END:VEVENT
END:VCALENDAR