BEGIN:VCALENDAR
VERSION:2.0
PRODID:-//Willkommen bei der Musikschule des Landkreises Hof - ECPv6.15.20//NONSGML v1.0//EN
CALSCALE:GREGORIAN
METHOD:PUBLISH
X-ORIGINAL-URL:https://ms-hof.de
X-WR-CALDESC:Veranstaltungen für Willkommen bei der Musikschule des Landkreises Hof
REFRESH-INTERVAL;VALUE=DURATION:PT1H
X-Robots-Tag:noindex
X-PUBLISHED-TTL:PT1H
BEGIN:VTIMEZONE
TZID:Europe/Berlin
BEGIN:DAYLIGHT
TZOFFSETFROM:+0100
TZOFFSETTO:+0200
TZNAME:CEST
DTSTART:20250330T010000
END:DAYLIGHT
BEGIN:STANDARD
TZOFFSETFROM:+0200
TZOFFSETTO:+0100
TZNAME:CET
DTSTART:20251026T010000
END:STANDARD
BEGIN:DAYLIGHT
TZOFFSETFROM:+0100
TZOFFSETTO:+0200
TZNAME:CEST
DTSTART:20260329T010000
END:DAYLIGHT
BEGIN:STANDARD
TZOFFSETFROM:+0200
TZOFFSETTO:+0100
TZNAME:CET
DTSTART:20261025T010000
END:STANDARD
BEGIN:DAYLIGHT
TZOFFSETFROM:+0100
TZOFFSETTO:+0200
TZNAME:CEST
DTSTART:20270328T010000
END:DAYLIGHT
BEGIN:STANDARD
TZOFFSETFROM:+0200
TZOFFSETTO:+0100
TZNAME:CET
DTSTART:20271031T010000
END:STANDARD
END:VTIMEZONE
BEGIN:VEVENT
DTSTART;TZID=Europe/Berlin:20260325T150000
DTEND;TZID=Europe/Berlin:20260325T160000
DTSTAMP:20260422T170723
CREATED:20260227T113402Z
LAST-MODIFIED:20260227T114306Z
UID:6131-1774450800-1774454400@ms-hof.de
SUMMARY:Frühlingskonzert im Alten- und Pflegeheim Haus "Saalepark" in Schwarzenbach a.d. Saale
DESCRIPTION:Es präsentieren sich Schülerinnen und Schüler der Instrumentalklassen von Olga Moos.
URL:https://ms-hof.de/veranstaltungen/fruehlingskonzert-im-alten-und-pflegeheim-haus-saalepark-in-schwarzenbach-a-d-saale/
LOCATION:Alten-Pflegeheim „Saalepark“\,  Schwarzenbach a.d. Saale
END:VEVENT
END:VCALENDAR