BEGIN:VCALENDAR
VERSION:2.0
PRODID:-//Willkommen bei der Musikschule des Landkreises Hof - ECPv6.15.20//NONSGML v1.0//EN
CALSCALE:GREGORIAN
METHOD:PUBLISH
X-WR-CALNAME:Willkommen bei der Musikschule des Landkreises Hof
X-ORIGINAL-URL:https://ms-hof.de
X-WR-CALDESC:Veranstaltungen für Willkommen bei der Musikschule des Landkreises Hof
REFRESH-INTERVAL;VALUE=DURATION:PT1H
X-Robots-Tag:noindex
X-PUBLISHED-TTL:PT1H
BEGIN:VTIMEZONE
TZID:Europe/Berlin
BEGIN:DAYLIGHT
TZOFFSETFROM:+0100
TZOFFSETTO:+0200
TZNAME:CEST
DTSTART:20240331T010000
END:DAYLIGHT
BEGIN:STANDARD
TZOFFSETFROM:+0200
TZOFFSETTO:+0100
TZNAME:CET
DTSTART:20241027T010000
END:STANDARD
BEGIN:DAYLIGHT
TZOFFSETFROM:+0100
TZOFFSETTO:+0200
TZNAME:CEST
DTSTART:20250330T010000
END:DAYLIGHT
BEGIN:STANDARD
TZOFFSETFROM:+0200
TZOFFSETTO:+0100
TZNAME:CET
DTSTART:20251026T010000
END:STANDARD
BEGIN:DAYLIGHT
TZOFFSETFROM:+0100
TZOFFSETTO:+0200
TZNAME:CEST
DTSTART:20260329T010000
END:DAYLIGHT
BEGIN:STANDARD
TZOFFSETFROM:+0200
TZOFFSETTO:+0100
TZNAME:CET
DTSTART:20261025T010000
END:STANDARD
END:VTIMEZONE
BEGIN:VEVENT
DTSTART;TZID=Europe/Berlin:20251207T151500
DTEND;TZID=Europe/Berlin:20251207T160000
DTSTAMP:20260422T215021
CREATED:20251119T090525Z
LAST-MODIFIED:20251124T113037Z
UID:5973-1765120500-1765123200@ms-hof.de
SUMMARY:Adventskonzert im Mehrgenerationenhaus Rehau
DESCRIPTION:Besinnliche Klänge zum Advent – kleines Konzert der Schülerinnen und Schüler der Musikschule des Landkreises Hof im Mehrgenerationenhaus in Rehau.
URL:https://ms-hof.de/veranstaltungen/adventskonzert/
LOCATION:Mehrgenerationenhaus Rehau\, Maxplatz 12\, Rehau\, 95111
END:VEVENT
END:VCALENDAR