BEGIN:VCALENDAR
VERSION:2.0
PRODID:-//Willkommen bei der Musikschule des Landkreises Hof - ECPv6.15.20//NONSGML v1.0//EN
CALSCALE:GREGORIAN
METHOD:PUBLISH
X-WR-CALNAME:Willkommen bei der Musikschule des Landkreises Hof
X-ORIGINAL-URL:https://ms-hof.de
X-WR-CALDESC:Veranstaltungen für Willkommen bei der Musikschule des Landkreises Hof
REFRESH-INTERVAL;VALUE=DURATION:PT1H
X-Robots-Tag:noindex
X-PUBLISHED-TTL:PT1H
BEGIN:VTIMEZONE
TZID:Europe/Berlin
BEGIN:DAYLIGHT
TZOFFSETFROM:+0100
TZOFFSETTO:+0200
TZNAME:CEST
DTSTART:20240331T010000
END:DAYLIGHT
BEGIN:STANDARD
TZOFFSETFROM:+0200
TZOFFSETTO:+0100
TZNAME:CET
DTSTART:20241027T010000
END:STANDARD
BEGIN:DAYLIGHT
TZOFFSETFROM:+0100
TZOFFSETTO:+0200
TZNAME:CEST
DTSTART:20250330T010000
END:DAYLIGHT
BEGIN:STANDARD
TZOFFSETFROM:+0200
TZOFFSETTO:+0100
TZNAME:CET
DTSTART:20251026T010000
END:STANDARD
BEGIN:DAYLIGHT
TZOFFSETFROM:+0100
TZOFFSETTO:+0200
TZNAME:CEST
DTSTART:20260329T010000
END:DAYLIGHT
BEGIN:STANDARD
TZOFFSETFROM:+0200
TZOFFSETTO:+0100
TZNAME:CET
DTSTART:20261025T010000
END:STANDARD
END:VTIMEZONE
BEGIN:VEVENT
DTSTART;TZID=Europe/Berlin:20251206T160000
DTEND;TZID=Europe/Berlin:20251206T170000
DTSTAMP:20260422T214949
CREATED:20251124T130131Z
LAST-MODIFIED:20251124T130137Z
UID:5986-1765036800-1765040400@ms-hof.de
SUMMARY:Adventskonzert der Instrumentalklassen von Tamara Ilisinska-Gromek und Jarosaw Gromek in Rehau
DESCRIPTION:Es spielen Schülerinnen und Schüler der Klavierklasse von Tamara Ilisinska-Gromek sowie der Klavier- und Blockflötenklassen von Jaroslaw Gromek.
URL:https://ms-hof.de/veranstaltungen/adventskonzert-der-instrumentalklassen-von-tamara-ilisinska-gromek-und-jarosaw-gromek-in-rehau/
LOCATION:Rummelsberger Diakonie\, Rehau\, Rummelsberger Diakonie\, Rehau
END:VEVENT
END:VCALENDAR